BEGIN:VCALENDAR
VERSION:2.0
PRODID:-//wp-events-plugin.com//7.2.2.1//EN
TZID:Europe/Paris
X-WR-TIMEZONE:Europe/Paris
BEGIN:VEVENT
UID:56@alimageducapsizun.org
DTSTART;TZID=Europe/Paris:20260317T210000
DTEND;TZID=Europe/Paris:20260317T230000
DTSTAMP:20260303T090545Z
URL:https://www.alimageducapsizun.org/events/light-painting-a-la-passerell
 e-de-treboul/
SUMMARY:Light painting à la passerelle de Treboul
DESCRIPTION:Et si on sortait un peu du Cap Sizun ! Atelier Lightpainting à
  la passerelle deTreboul le mardi 17 mars 21h.\n\nRendez vous devant le pa
 sserelle ( l'écluse)\n\nApportez de quoi éclairer la nuit .
ATTACH;FMTTYPE=image/jpeg:https://www.alimageducapsizun.org/wp-content/upl
 oads/2021/10/Imports-1-sur-2.jpeg
CATEGORIES:Ateliers/Sorties
LOCATION:passerelle des capucins\, Audierne\, Audierne\, 29770\, France
X-APPLE-STRUCTURED-LOCATION;VALUE=URI;X-ADDRESS=Audierne\, Audierne\, 29770
 \, France;X-APPLE-RADIUS=100;X-TITLE=passerelle des capucins:geo:0,0
END:VEVENT
BEGIN:VTIMEZONE
TZID:Europe/Paris
X-LIC-LOCATION:Europe/Paris
BEGIN:STANDARD
DTSTART:20251026T020000
TZOFFSETFROM:+0200
TZOFFSETTO:+0100
TZNAME:CET
END:STANDARD
END:VTIMEZONE
END:VCALENDAR